BEGIN:VCALENDAR
VERSION:2.0
PRODID:-//https://dev.gaestehaus.abtei-muensterschwarzach.de///NONSGML kigkonsult.se iCalcreator 2.10.15//
METHOD:PUBLISH
BEGIN:VEVENT
UID:20260422T011120CEST-3110hUETVw@https://dev.gaestehaus.abtei-muenstersch
 warzach.de/
DTSTAMP:20260421T231120Z
DESCRIPTION:freie Plätze: 2\n    Buchungsnummer14191OrtAbtei Münsterschwarz
 achReferentenBruder David Hergenröder  (Abtei Münsterschwarzach)KostenKurs
 gebühr:100\,00 €\n         https://dev.gaestehaus.abtei-muensterschwarzach
 .de/kurse/kalender/event/14191-online-anmeldung-1
DTSTART:20280101T180000Z
DTEND:20280103T130000Z
LOCATION:Abtei Münsterschwarzach ()
SUMMARY:'online-Anmeldung' 1
URL:https://dev.gaestehaus.abtei-muensterschwarzach.de/kurse/kalender/event
 /14191-online-anmeldung-1
END:VEVENT
BEGIN:VEVENT
UID:20260422T011120CEST-3112o1gcTb@https://dev.gaestehaus.abtei-muenstersch
 warzach.de/
DTSTAMP:20260421T231120Z
DESCRIPTION:freie Plätze: 5\n    Buchungsnummer14192OrtAbtei Münsterschwarz
 achReferentenBruder David Hergenröder  (Abtei Münsterschwarzach)KostenKurs
 gebühr:100\,00 €\n         https://dev.gaestehaus.abtei-muensterschwarzach
 .de/kurse/kalender/event/14192-online-anmeldung-2-warteliste
DTSTART:20280101T180000Z
DTEND:20280103T130000Z
LOCATION:Abtei Münsterschwarzach ()
SUMMARY:'online-Anmeldung' 2 + Warteliste
URL:https://dev.gaestehaus.abtei-muensterschwarzach.de/kurse/kalender/event
 /14192-online-anmeldung-2-warteliste
END:VEVENT
BEGIN:VEVENT
UID:20260422T011120CEST-3113odEp9E@https://dev.gaestehaus.abtei-muenstersch
 warzach.de/
DTSTAMP:20260421T231120Z
DESCRIPTION:freie Plätze: 10\n    Buchungsnummer14231OrtAbtei Münsterschwar
 zachKostenKursgebühr:0\,00 €\n         https://dev.gaestehaus.abtei-muenst
 erschwarzach.de/kurse/kalender/event/14231-online-anmeldung-3
DTSTART:20280101T180000Z
DTEND:20280103T130000Z
LOCATION:Abtei Münsterschwarzach ()
SUMMARY:'online-Anmeldung' 3
URL:https://dev.gaestehaus.abtei-muensterschwarzach.de/kurse/kalender/event
 /14231-online-anmeldung-3
END:VEVENT
END:VCALENDAR
